BEGIN:VCALENDAR
VERSION:2.0
PRODID:-//Stadtgeschichte München//DE
CALSCALE:GREGORIAN
BEGIN:VEVENT
UID:15919@stadtgeschichte-muenchen.de
SUMMARY:„Liaba a Räterepublik ois wia gar koan Ärger!“
DESCRIPTION:&lt;p&gt;REVOLUTION IN MÜNCHEN – ALLTAG UND ERINNERUNG&lt;/p&gt; &lt;p&gt;Im Vortrag mit Lichtbildprojektion beleuchtet Günther Gerstenberg antisozialistische, konterrevolution.re wie auch klassenk.mpferische Humorproduktion vor 100 Jahren. Wo ist spezifisch bairischer Humor zu entdecken, worin unterscheidet sich linke von rechter Erheiterung?&lt;/p&gt; 
DTSTART:20181026T190000
DTEND:20181026T000000
LOCATION:DGB-Haus
ORGANIZER:Archiv der Münchner Arbeiterbewegung e.V.
END:VEVENT
END:VCALENDAR