BEGIN:VCALENDAR
VERSION:2.0
PRODID:-//Stadtgeschichte München//DE
CALSCALE:GREGORIAN
BEGIN:VEVENT
UID:15929@stadtgeschichte-muenchen.de
SUMMARY:Ressentiment und Trauma
DESCRIPTION:&lt;p&gt;Das Ende der Monarchie, die Revolution und die kurzlebige Räteherrschaft nach Kurt Eisners Ermordung wurden für die bayerischen Bürger zum Trauma. Auf der Suche nach Schuldigen für den verlorenen Krieg und das Nachkriegselend waren antisemitische Ressentiments willkommen. Den Folgen geht der Vortrag nach.&lt;/p&gt; &lt;p&gt;Wolfgang Benz Historiker, Technische Universität, Zentrum für Antisemitismusforschung, Berlin&lt;/p&gt; 
DTSTART:20181115T190000
DTEND:20181115T000000
LOCATION:NS-Dokumentationszentrum München
ORGANIZER:NS-Dokumentationszentrum München
END:VEVENT
END:VCALENDAR