BEGIN:VCALENDAR
VERSION:2.0
PRODID:-//Stadtgeschichte München//DE
CALSCALE:GREGORIAN
BEGIN:VEVENT
UID:15932@stadtgeschichte-muenchen.de
SUMMARY:Für die Befreiung aller Völker, einschließlich des deutschen Volkes
DESCRIPTION:&lt;p&gt;In seiner Botschaft vom April 1917 erklärte US-Präsident Wilson, Amerika kämpfe auch für die Befreiung des deutschen Volkes von der Autokratie. Dem Sturz der Hohenzollern-Monarchie und der Errichtung einer republikanischen Ordnung im November 1918 begegnete Wilson jedoch mit tiefem Misstrauen. In seinem Vortrag wird der Heidelberger Historiker Manfred Berg Wilsons Deutschlandpolitik zwischen 1917 und 1919 einer kritischen Betrachtung unterziehen.&lt;/p&gt; &lt;p&gt;Manfred Berg Curt-Engelhorn-Lehrstuhl für Amerikanische Geschichte, Universität Heidelberg&lt;/p&gt; 
DTSTART:20181115T190000
DTEND:20181115T000000
LOCATION:Amerikahaus, Vortragsraum
ORGANIZER:Stiftung Bayerisches Amerikahaus
END:VEVENT
END:VCALENDAR