BEGIN:VCALENDAR
VERSION:2.0
PRODID:-//Stadtgeschichte München//DE
CALSCALE:GREGORIAN
BEGIN:VEVENT
UID:15956@stadtgeschichte-muenchen.de
SUMMARY:Ter Traum des Ret Marut - Der frühe B. Traven
DESCRIPTION:&lt;p&gt;„Ehe die Revolution ist, muss der Revolutionär sein!“&lt;br /&gt; (Ret Marut, „Der Ziegelbrenner“)&lt;/p&gt; &lt;p&gt;Der Schriftsteller und Akteur der Münchner Räterepublik Ret Marut (vermutlich Otto Feige) gehört zu den mysteriösesten Literaten des 20 Jahrhunderts. Zwischen 1918 und 1921 veröffentlichte er die anarchistische Zeitschrift: „Der Ziegelbrenner“. Nach der Niederschlagung der Räterepublik gelang ihm die Flucht nach Mexiko. Dort veröffentlichte er als „B. Traven“ eine Vielzahl an Romanen und Erzählungen („Das Totenschiff“, „Der Schatz der Sierra Madre“) und wurde durch Verfilmungen seiner Werke international bekannt.&lt;/p&gt; &lt;p&gt;Franz Josef Strohmeier Schauspieler&lt;br /&gt; Musik: Maria Hafner&lt;/p&gt; &lt;p&gt;barrierefrei (Eingang: Siebertstr.2)&lt;/p&gt; 
DTSTART:20190326T190000
DTEND:20190326T000000
LOCATION:Monacensia im Hildebrandhaus, Forum Atelier
ORGANIZER:Monacensia
END:VEVENT
END:VCALENDAR