BEGIN:VCALENDAR
VERSION:2.0
PRODID:-//Stadtgeschichte München//DE
CALSCALE:GREGORIAN
BEGIN:VEVENT
UID:15970@stadtgeschichte-muenchen.de
SUMMARY:Sarah Sonja Lerch, die vergessene Revolutionärin
DESCRIPTION:&lt;p&gt;„Der Abend kommt so schnell“, die Autorin Naumann liest aus ihrem Angang 2018 erschienenen Roman über die an den Januarstreiks 1918 beteiligte Revolutionärin Lerch, die an Kurt Eisners Seite kämpfte.&lt;/p&gt; &lt;p&gt;Kulturforum München West in Kooperation mit Institut für zukunftsweisende Geschichte e.V., mit Unterstützung des Bezirksausschusses 21 Pasing - Obermenzing, Aktive Zentren Pasing und Kulturreferat der Landeshauptstadt München&lt;/p&gt; &lt;p&gt;eingeschränkt barrierefrei&lt;/p&gt; 
DTSTART:20190408T193000
DTEND:20190408T000000
LOCATION:Ebenböckhaus
ORGANIZER:Kulturforum München-West
END:VEVENT
END:VCALENDAR