BEGIN:VCALENDAR
VERSION:2.0
PRODID:-//Stadtgeschichte München//DE
CALSCALE:GREGORIAN
BEGIN:VEVENT
UID:15991@stadtgeschichte-muenchen.de
SUMMARY:​Learning from Ukraine
DESCRIPTION:&lt;p&gt;Können wir in der Bundesrepublik Deutschland vom demokratischen Aufbruch in der Ukraine lernen und als offene Gesellschaft den Wunsch nach großen Gefühlen nutzen?&lt;/p&gt; &lt;p&gt;Conrad Breyer Moderation&lt;br /&gt; Oleksandra Bienert Ethnologin und Historikerin&lt;br /&gt; Franziska Davies Geschichte Ost- und Südosteuropa, Ludwig-Maximilians-Universität&lt;br /&gt; Dmytro Shevchenko Konsul der Ukraine in München&lt;/p&gt; &lt;p&gt;Pasinger Fabrik in Kooperation mit dem BayernForum der Friedrich-Ebert-Stiftung und dem Kulturreferat der Landeshauptstadt München&lt;/p&gt; &lt;p&gt;eingeschränkt barrierefrei&lt;/p&gt; 
DTSTART:20181113T200000
DTEND:20181113T000000
LOCATION:Pasinger Fabrik, Kleine Bühne
ORGANIZER:Pasinger Fabrik GmbH
END:VEVENT
END:VCALENDAR