BEGIN:VCALENDAR
VERSION:2.0
PRODID:-//Stadtgeschichte München//DE
CALSCALE:GREGORIAN
BEGIN:VEVENT
UID:15992@stadtgeschichte-muenchen.de
SUMMARY:NSDAP-Parteizentrum
DESCRIPTION:&lt;p&gt;Die Führung zur Geschichte des NSDAP-Parteizentrums besteht aus einer historischen Einführung und einem Rundgang durch die Gebäude Katharina-von-Bora-Straße 10 (ehemals „Verwaltungsbau der NSDAP“, heute Gebäude verschiedener Kunstinstitute) und Arcisstraße 12 (ehemals „Führerbau“, heute Staatliche Hochschule für Musik und Theater).&lt;/p&gt; &lt;p&gt;Teilnahme ist nur nach vorheriger Anmeldung unter Tel.: 089- 289-27562 oder per Mail unter&amp;nbsp;i.lauterbach@zikg.euoder&amp;nbsp;u.grammbitter@zikg.eumöglich.&lt;/p&gt; 
DTSTART:20181015T180000
DTEND:20181015T200000
LOCATION:Zentralinstitut für Kunstgeschichte, Katharina-von-Bora-Straße 10, Eingangshalle
ORGANIZER:Zentralinstitut für Kunstgeschichte
END:VEVENT
END:VCALENDAR