BEGIN:VCALENDAR
VERSION:2.0
PRODID:-//Stadtgeschichte München//DE
CALSCALE:GREGORIAN
BEGIN:VEVENT
UID:16020@stadtgeschichte-muenchen.de
SUMMARY:Die ERES-Stiftung mit Besuch der aktuellen Ausstellung
DESCRIPTION:&lt;p&gt;Besuchen Sie die ERES-Stiftung mit Sitz in Schwabing und lassen Sie sich durch die aktuelle Ausstellung &quot;EISKALT - Die dunkle Seite der Macht. Fake News, Selbstzerstörung, Normalität und Wassertropfen&quot; führen. Die Schau nimmt die dunkle Seite der politischen Macht im Hinblick auf den Klimawandel und Fake News genauso in den Blick, wie durch menschliche Ohnmacht und Resignation hervorgerufene Aggression und Selbstzerstörung.&lt;/p&gt; 
DTSTART:20181002T153000
DTEND:20181002T163000
LOCATION:ERES-Stiftung, Römerstr. 15
ORGANIZER:MVHS München Mitte   
END:VEVENT
END:VCALENDAR