BEGIN:VCALENDAR
VERSION:2.0
PRODID:-//Stadtgeschichte München//DE
CALSCALE:GREGORIAN
BEGIN:VEVENT
UID:16043@stadtgeschichte-muenchen.de
SUMMARY:Zu Gast bei „Bellevue di Monaco“
DESCRIPTION:&lt;p&gt;Wohn- und Kulturzentrum, Infocafé, Beratungsstelle, Begegnungsstätte für Geflüchtete und Münchnerinnen und Münchner, Forum für Debatten u.v.m.: Das Bellevue di Monaco ist ein einzigartiges Projekt in München, das mit und in seinen drei Häusern in der Müllerstraße das Thema Flucht und Migration in das Herz der Stadt rückt. Der Abend informiert über den Stand dieses Projekts, die vielfältigen Aufgaben und Aktivitäten und über konkrete Beteiligungsmöglichkeiten.&lt;/p&gt; 
DTSTART:20181116T173000
DTEND:20181116T183000
LOCATION:Bellevue di Monaco, Müllerstraße 6
ORGANIZER:MVHS München Mitte   
END:VEVENT
END:VCALENDAR