BEGIN:VCALENDAR
VERSION:2.0
PRODID:-//Stadtgeschichte München//DE
CALSCALE:GREGORIAN
BEGIN:VEVENT
UID:16067@stadtgeschichte-muenchen.de
SUMMARY:Revoluzzer-G\'schichten
DESCRIPTION:&lt;p&gt;Revolutionen werden nicht nebenbei gemacht. Sie wachsen langsam aus dem Spannungsfeld der politischen und gesellschaftlichen Struktur. Bis zum Zusammenbruch der staatlichen Autorität ist es ein weiter Weg - ganz besonders in Bayern. Dennoch rief Kurt Eisner in der Nacht vom 7. zum 8. November 1918 den &quot;Freistaat Bayern&quot; aus, beendete damit die Monarchie und erzwang durch eine Revolution demokratische Strukturen. Vom Frauenwahlrecht bis zur Abschaffung der kirchlichen Schulaufsicht setzte die neue Regierung viele Reformen um. Doch schon ab dem ersten Tag formierten sich die Feinde der neuen Staatsform.&lt;/p&gt; 
DTSTART:20191103T110000
DTEND:20191103T133000
LOCATION:U-Bahnhaltestelle Theresienwiese, Ausgang Theresienwiese
ORGANIZER:MVHS München Mitte   
END:VEVENT
END:VCALENDAR