BEGIN:VCALENDAR
VERSION:2.0
PRODID:-//Stadtgeschichte München//DE
CALSCALE:GREGORIAN
BEGIN:VEVENT
UID:16074@stadtgeschichte-muenchen.de
SUMMARY:Die Stadt ohne Juden
DESCRIPTION:&lt;p&gt;&lt;em&gt;Im Rahmen der Internationalen Stummfilmtage München&lt;/em&gt;&lt;/p&gt; &lt;p&gt;1922 veröffentlichte Hugo Bettauer seinen Roman „Die Stadt ohne Juden“, der die Ausweisung der jüdischen Bevölkerung aus Wien beschreibt. Eine bis dahin utopische Vorstellung von der niemand ahnte, dass sie einmal Realität werden konnte. Bettauer wurde 1925 von dem Nationalsozialisten Otto Rothstock erschossen. Der österreichische Regisseur Hans Karl Breslauer verfilmte 1924 den Roman, verlegte die Handlung allerdings von Wien in den fiktiven Staat Utopia. Die Verfilmung war die erste weltweit, die den damals alltäglichen Antisemitismus so explizit zum Thema machte und in eine satirische Dystopie übersetzte. Das von einer Wirtschaftskrise gebeutelte Volk des Staates Utopia macht die jüdische Bevölkerung dafür verantwortlich und fordert deren Ausweisung. Die Politik beugt sich diesen Forderungen. Drastische Szenen zeigen die Brutalität der Vertreibung. Im Film kehren die Jüdinnen und Juden wieder zurück, die historische Realität sollte aber anders aussehen.&lt;br /&gt; &lt;br /&gt; 2015 wurden die seit über 90 Jahren verschollenen Teile des österreichischen Stummfilms zufällig auf einem Pariser Flohmarkt entdeckt und 2016 an das Filmarchiv Austria übergeben, das mit Hilfe einer Crowdfunding Initiative den Film restaurieren konnte.&lt;br /&gt; &lt;br /&gt; Eine Einführung hält Nikolaus Wostry vom Filmarchiv Austria.&amp;nbsp;&lt;br /&gt; Der Stummfilmmusiker Günter Buchwald begleitet die Filmvorführung live am Flügel.&lt;/p&gt; &lt;p&gt;Filmmuseum München in Kooperation mit dem NS-Dokumentationszentrum München&lt;br /&gt; &lt;br /&gt; &amp;nbsp;&lt;/p&gt; 
DTSTART:20180809T183000
DTEND:20180809T000000
LOCATION:Im Rahmen der Internationalen Stummfilmtage München  1922 veröffentlichte Hugo Bettauer seinen Roman „Die Stadt ohne Juden“, der die Ausweisung der jü
ORGANIZER:NS-Dokumentationszentrum München
END:VEVENT
END:VCALENDAR