BEGIN:VCALENDAR
VERSION:2.0
PRODID:-//Stadtgeschichte München//DE
CALSCALE:GREGORIAN
BEGIN:VEVENT
UID:16075@stadtgeschichte-muenchen.de
SUMMARY:Kavaliershäuser und Lustschlösser
DESCRIPTION:&lt;p&gt;&lt;strong&gt;Auf dem geführten Spaziergang durch die weitläufige Parkanlage der Sommerresidenz entdecken Sie Kunst, Geschichte und Spuren barocken Überschwangs.&lt;/strong&gt;&lt;/p&gt; &lt;p&gt;Hier im Schlosspark vertrieben sich einst Hochadel und Höflinge ihre Zeit mit der Jagd auf Fasane, musikalisch untermalten Gondelfahrten, Kutschfahrten und Kegelspiel.&lt;/p&gt; &lt;p&gt;In der bedeutenden Gartenanlage erkennen Sie sowohl den französischen Barockgarten und den typischen englischen Landschaftsgarten.&lt;/p&gt; &lt;p&gt;Heute gehen die Münchner hier joggen oder lassen im Winter Eisstöcke über die zugefrorenen Kanäle schlittern.&lt;/p&gt; &lt;p&gt;Gewinnen Sie mit uns einen umfassenden Überblick über das Leben vor und hinter dem Schloss: &amp;nbsp;Vom Schlossrondell mit den Kavaliershäusern bis zum Park mit seinen versteckten Lustschlösschen und manchen Gesinde-Behausungen. Die vielfältig gestaltete Natur mit ihren Wiesen und Wäldern, Seen und Kanälen entfaltet zu jeder Jahreszeit ihren besonderen Reiz.&lt;/p&gt; 
DTSTART:20180908T160000
DTEND:20180908T180000
LOCATION:Freitreppe Schloss Nymphenburg (Stadtseite)
ORGANIZER:STATTreisen München e.V.
END:VEVENT
END:VCALENDAR