BEGIN:VCALENDAR
VERSION:2.0
PRODID:-//Stadtgeschichte München//DE
CALSCALE:GREGORIAN
BEGIN:VEVENT
UID:16079@stadtgeschichte-muenchen.de
SUMMARY:München - für interessierte (Neu-)Bürger
DESCRIPTION:&lt;p&gt;Am Isartor entdecken wir die restlichen Spuren des zweiten Mauerrings, am alten Rathaus suchen wir einen fidelen Jüngling auf und am Neuen Rathaus betrachten wir das Glockenspiel. Unser Weg zum Stachus führt uns zu einer Lüftlmalerei von Ludwig II, wir werfen einen Blick in die Frauenkirche, suchen das schmälste Haus Münchens und enden mit einer Majestätsbeleidigung.&lt;/p&gt; 
DTSTART:20181012T170000
DTEND:20181012T190000
LOCATION:Eingang Karl Valentin Musäum
ORGANIZER:VHS SüdOst Landkreis München
END:VEVENT
END:VCALENDAR