BEGIN:VCALENDAR
VERSION:2.0
PRODID:-//Stadtgeschichte München//DE
CALSCALE:GREGORIAN
BEGIN:VEVENT
UID:16080@stadtgeschichte-muenchen.de
SUMMARY:München - für interessierte (Neu-)Bürger
DESCRIPTION:&lt;p&gt;Schöne Palazzi, Innenhöfe und Arkadengänge - die Wittelsbacher hatten bereits vor über 500 Jahren den Wunsch, aus München ein zweites Florenz zu gestalten. Sie werden sehen, dass dieses Vorhaben durchaus gelungen ist. Durch bildgestütztes Material wird die Führung zum visuellen Erlebnis mit Aha-Effekt und Sie stellen fest: München ist die nördlichste Stadt Italiens.&lt;/p&gt; 
DTSTART:20181026T150000
DTEND:20181026T170000
LOCATION:Alter Hof, am Brunnen
ORGANIZER:VHS SüdOst Landkreis München
END:VEVENT
END:VCALENDAR