BEGIN:VCALENDAR
VERSION:2.0
PRODID:-//Stadtgeschichte München//DE
CALSCALE:GREGORIAN
BEGIN:VEVENT
UID:16082@stadtgeschichte-muenchen.de
SUMMARY:Theatinerkirche St. Kajetan
DESCRIPTION:&lt;p&gt;Das Kurfürstenpaar Ferdinand Maria und Henriette Adelaide ließen diesen ersten Barockbau der Stadt 1663 als Dank für die Geburt ihres Sohnes von italienischen Baumeistern nach römischen Vorbildern errichten. Das Stifterpaar bestimmte die Gruft der Kirche zu seiner letzten Ruhestätte und fast alle ihre Nachfolger ruhen hier - so auch der erste bayerische König und seine evangelische Gemahlin.&amp;nbsp;&lt;/p&gt; 
DTSTART:20181012T100000
DTEND:20181012T120000
LOCATION:Hauptportal, Theatinerstraße 22
ORGANIZER:VHS SüdOst Landkreis München
END:VEVENT
END:VCALENDAR