BEGIN:VCALENDAR
VERSION:2.0
PRODID:-//Stadtgeschichte München//DE
CALSCALE:GREGORIAN
BEGIN:VEVENT
UID:16084@stadtgeschichte-muenchen.de
SUMMARY:Neuhausen
DESCRIPTION:&lt;p&gt;In der Nähe von Schloss Nymphenburg entstand ab 1890 ein „gesundes Quartier für Bemittelte“ mit prachtvollen Villen, die heute fast alle unter Denkmalschutz stehen. An das alte Dorf erinnert noch die Winthirkirche mit ihrem kleinen Friedhof, in dem viele berühmte Personen bestattet sind, z.B. Oskar v. Miller und Sigi Sommer.&lt;/p&gt; &lt;p&gt;In Zusammenarbeit mit der vhs Taufkirchen.&lt;/p&gt; 
DTSTART:20181024T100000
DTEND:20181024T120000
LOCATION:Rotkreuzplatz, Brunnen vor dem Kaufhof
ORGANIZER:VHS SüdOst Landkreis München
END:VEVENT
END:VCALENDAR