BEGIN:VCALENDAR
VERSION:2.0
PRODID:-//Stadtgeschichte München//DE
CALSCALE:GREGORIAN
BEGIN:VEVENT
UID:16085@stadtgeschichte-muenchen.de
SUMMARY:Westfriedhof
DESCRIPTION:&lt;p&gt;1898 wurde der gartenkünstlerisch bedeutende Westfriedhof eröffnet. Viele der Grabstätten erinnern an die bewegte Geschichte Münchens von der Revolution 1918 bis zur Machtergreifung Hitlers z.B. das „Gesellengrab“ oder die Gräber von Gräfin Westarp und Ernst Rohm. In der einzigen Gruft auf einem Münchener Friedhof ruht Alfred Schuler, der die Ideologie des 3. Reiches vorwegnahm.&lt;/p&gt; 
DTSTART:20181105T100000
DTEND:20181105T120000
LOCATION:Haupteingang Baldurstraße
ORGANIZER:VHS SüdOst Landkreis München
END:VEVENT
END:VCALENDAR