BEGIN:VCALENDAR
VERSION:2.0
PRODID:-//Stadtgeschichte München//DE
CALSCALE:GREGORIAN
BEGIN:VEVENT
UID:16097@stadtgeschichte-muenchen.de
SUMMARY:Mörder, Geister, Henkersknecht Geisterführung zu Halloween
DESCRIPTION:&lt;p&gt;Auf einer Tour durch die Altstadt begegnen wir Geistern aus vergangenen Zeiten, die noch immer keine Ruhe finden. Wir sehen Grufträuber nach ihrer schmutzigen Arbeit, beobachten Mörder auf der Flucht und den Henkersknecht. Action- Führung mit echtem Darsteller an Original-Tatorten - nichts für schwache Nerven! (wer möchte, kann gerne verkleidet kommen).&lt;/p&gt; 
DTSTART:20181030T190000
DTEND:20181030T203000
LOCATION:Frauenkirche / Dom, St. Benno-Brunnen
ORGANIZER:VHS SüdOst Landkreis München
END:VEVENT
END:VCALENDAR