BEGIN:VCALENDAR
VERSION:2.0
PRODID:-//Stadtgeschichte München//DE
CALSCALE:GREGORIAN
BEGIN:VEVENT
UID:16110@stadtgeschichte-muenchen.de
SUMMARY:Der Abend kommt so schnell
DESCRIPTION:&lt;p&gt;Für Sonja ist der Frieden zum Greifen nah. Mit Kurt Eisner und anderen Pazifisten will sie im Januar 1918 nach vier entbehrungsreichen Jahren den Krieg beenden. Eisner und sie rufen den Generalstreik aus, doch die Aktivisten werden verhaftet. Cornelia Naumann forscht in ihrem neuen Roman den Spuren nach, die die Revolutionärin Sonja Lerch in München hinterlassen hat, und entdeckt das tragische Leben einer Frau zwischen zwei Welten.&lt;/p&gt; &lt;p&gt;Musik: Thorsten Klentze (Gitarre) und Roger Jannotta (Klarinette, Querflöte, Saxophon)&lt;/p&gt; &lt;p&gt;In Zusammenarbeit mit dem Stadtteilkulturzentrum Guardini90 In Kooperation mit dem Stadtteilkulturzentrum Guardini90; eine Veranstaltung im Rahmen der Ausstellung „Schlaglichter. Kurt Eisners Zeit in Hadern&quot; des Geschichtsverein Hadern e.V.&lt;/p&gt; 
DTSTART:20181115T190000
DTEND:20181115T203000
LOCATION:MVHS - Guardinistr. 90
ORGANIZER:MVHS
END:VEVENT
END:VCALENDAR