BEGIN:VCALENDAR
VERSION:2.0
PRODID:-//Stadtgeschichte München//DE
CALSCALE:GREGORIAN
BEGIN:VEVENT
UID:16112@stadtgeschichte-muenchen.de
SUMMARY:Auftrag Demokratie - Die USA, Westdeutschland und Japan nach 1945
DESCRIPTION:&lt;p&gt;Die Demokratisierung der Kriegsgegner Deutschland und Japan zählte zu den wichtigsten Kriegszielen der USA. Wo setzten die Amerikaner an, welche politischen und gesellschaftlichen Strukturen und welche ideologischen Prägungen versuchten sie, vorrangig zu verändern? Warum ist die Erziehung zur Demokratie in diesen beiden Fällen geglückt?&lt;/p&gt; &lt;p&gt;Werner Bührer emiritiert, Lehrstuhl für Politikw issenschaft, Technische Universität München&lt;/p&gt; 
DTSTART:20181121T180000
DTEND:20181121T000000
LOCATION:Gasteig, Raum 0115
ORGANIZER:MVHS
END:VEVENT
END:VCALENDAR