BEGIN:VCALENDAR
VERSION:2.0
PRODID:-//Stadtgeschichte München//DE
CALSCALE:GREGORIAN
BEGIN:VEVENT
UID:16115@stadtgeschichte-muenchen.de
SUMMARY:Versailles
DESCRIPTION:&lt;p&gt;Hart in den Forderungen, brutal in der Diktion und anmaßend im Rechtsgefühl des Siegers - fast alle Deutschen empfanden die ultimativ formulierten Bedingungen des Versailler Vertrages im Juni 1919 als ungerecht. Warum wird der Vertrag heute anders beurteilt? Welche mittelfristigen Chancen bot er Deutschland? War er nicht ein Kompromiss der Siegermächte zwischen den sicherheitspolitischen Vorstellungen Frankreichs auf der einen Seite und den angelsächsischen Ängsten vor dem Ausbreiten des Kommunismus auf der anderen?&lt;/p&gt; 
DTSTART:20181211T200000
DTEND:20181211T213000
LOCATION:Gasteig Rosenheimer Str. 5
ORGANIZER:MVHS
END:VEVENT
END:VCALENDAR