BEGIN:VCALENDAR
VERSION:2.0
PRODID:-//Stadtgeschichte München//DE
CALSCALE:GREGORIAN
BEGIN:VEVENT
UID:16117@stadtgeschichte-muenchen.de
SUMMARY:Die „Ordnungszelle Bayern“ und der Aufstieg des Nationalsozialismus
DESCRIPTION:&lt;p&gt;Nach den Erschütterungen durch Revolution und Räterepublik wollten nationalkonservative Kräfte „Ruhe und Ordnung&quot; im Lande wiederherstellen. Die „Ordnungszelle Bayern&quot; sollte über Bayern hinaus auf das gesamte Deutsche Reich wirken und den nationalen Wiederaufstieg ermöglichen. Das Konzept vereinte antisozialistische, antikommunistische, antisemitische und völkische Ideen und bereitete, zusammen mit einer entsprechenden Politik und Rechtsprechung, den Boden für den Aufstieg der Nationalsozialisten um Adolf Hitler.&lt;/p&gt; 
DTSTART:20190130T200000
DTEND:20190130T213000
LOCATION:Gasteig Rosenheimer Str. 5
ORGANIZER:MVHS
END:VEVENT
END:VCALENDAR