BEGIN:VCALENDAR
VERSION:2.0
PRODID:-//Stadtgeschichte München//DE
CALSCALE:GREGORIAN
BEGIN:VEVENT
UID:16118@stadtgeschichte-muenchen.de
SUMMARY:Zur Rolle des Antikommunismus in der Zwischenkriegszeit
DESCRIPTION:&lt;p&gt;Der Antikommunismus zählte zu den prägenden politisch-ideologischen Phänomenen des 20. Jahrhunderts. Er diente als Klammer für unterschiedlichste Strömungen. Der Vortrag befasst sich zunächst mit seiner besonderen Ausprägung in Bayern und Deutschland, die eine Reaktion auf die revolutionären und krisenhaften Ereignisse zwischen 1918 und 1923 und den von vielen Deutschen als Demütigung empfundenen Versailler Friedensvertrag darstellte. Anschließend wird die Bedeutung des Antikommunismus für die politische und soziokulturelle Entwicklung im Europa der 1920er und 1930er Jahre analysiert.&lt;/p&gt; 
DTSTART:20190206T200000
DTEND:20190206T213000
LOCATION:Gasteig Rosenheimer Str. 5
ORGANIZER:MVHS
END:VEVENT
END:VCALENDAR