BEGIN:VCALENDAR
VERSION:2.0
PRODID:-//Stadtgeschichte München//DE
CALSCALE:GREGORIAN
BEGIN:VEVENT
UID:16119@stadtgeschichte-muenchen.de
SUMMARY:80 Jahre Münchner Abkommen
DESCRIPTION:&lt;p&gt;Am 29./30. September 1938 trafen sich die Regierungschefs Deutschlands, Italiens, Frankreichs und Großbritanniens im Münchner „Führerbau&quot;, um die Abtretung der tschechoslowakischen Sudetengebiete an das Deutsche Reich festzulegen. Mit ihrer Zustimmung zu Hitlers Forderungen hofften die Westmächte den drohenden Krieg abzuwenden - doch sie verschob lediglich den Kriegsbeginn.&lt;/p&gt; &lt;p&gt;Welche Folgen hatte das Münchner Abkommen für den tschechoslowakischen Staat, für seine Bürgerinnen und Bürger und für Europa? Wie wird es heute in Prag und Bratislava erinnert? Können aus der Appeasement-Politik Lehren für heute gezogen werden?&lt;/p&gt; &lt;p&gt;Es diskutieren:&lt;/p&gt; &lt;ul&gt; &lt;li&gt;Prof. Dr. Anna Häjkovä, Universität Warwick&lt;/li&gt; &lt;li&gt;Dr. Petr Koura, Collegium Carolinum (angefragt)&lt;/li&gt; &lt;li&gt;Dr. Michal Schvarc, Historisches Institut der Slowakischen Akademie der Wissenschaften&amp;nbsp;&lt;/li&gt; &lt;li&gt;Prof. Dr. Volker Zimmermann, Collegium Carolinum&lt;/li&gt; &lt;li&gt;Moderation:&amp;nbsp;Dr. Angela Hermann, NS-Dokumentationszentrum München&lt;/li&gt; &lt;/ul&gt; &lt;p&gt;In Zusammenarbeit mit dem Collegium Carolinum, dem NS-Dokumentationszentrum München und dem Tschechischen Zentrum.&lt;/p&gt; 
DTSTART:20180920T190000
DTEND:20180920T203000
LOCATION:NS-Dokumentationszentrum München
ORGANIZER:MVHS
END:VEVENT
END:VCALENDAR