BEGIN:VCALENDAR
VERSION:2.0
PRODID:-//Stadtgeschichte München//DE
CALSCALE:GREGORIAN
BEGIN:VEVENT
UID:16241@stadtgeschichte-muenchen.de
SUMMARY:80. Jahrestag des 9. November 1938 
DESCRIPTION:&lt;p&gt;Vor 80 Jahren wurden in den Tagen um den 9. November 1938 in ganz Deutschland mehr als 30 000 Juden ihrer Freiheit beraubt und in die Konzentrationslager Dachau, Buchenwald und Sachsenhausen verschleppt. Überall wurden Synagogen zerstört, jüdische Friedhöfe verwüstet, Geschäfte demoliert, Menschen verhaftet, misshandelt und ermordet. Auch aus dem Stadtbezirk 24 wurden jüdische Nachbarn als „Aktionshäftlinge&quot; in das KZ Dachau eingeliefert. Ihre Namen und ihre Schicksale sowie Biografien von jüdischen kriegsge- fangenen Soldaten aus der Sowjetunion werden an diesem Tag zu Gehör gebracht.&lt;br /&gt; In Kooperation mit Gegen Vergessen - Für Demokratie e. V,&lt;br /&gt; Regionale Arbeitsgruppe München.&lt;/p&gt; 
DTSTART:20181111T110000
DTEND:20181111T123000
LOCATION:KZ-Baracke in Ludwigsfeld, Granastraße 10
ORGANIZER:MVHS München Nord
END:VEVENT
END:VCALENDAR