BEGIN:VCALENDAR
VERSION:2.0
PRODID:-//Stadtgeschichte München//DE
CALSCALE:GREGORIAN
BEGIN:VEVENT
UID:16243@stadtgeschichte-muenchen.de
SUMMARY:Erzählcafè im 2411: Eine deutsche Jugend mit US-Soldaten
DESCRIPTION:&lt;p&gt;Nach der Eroberung Münchens am 30.4.1945 zogen US-Soldaten in die Kasernen der Wehrmacht im Münchner Norden und beeinflussten von da ab das öffentliche Leben und das kulturelle Erscheinungsbild der Stadt. Bis Ende der 70er Jahre waren hier US-Nachtclubs,&lt;br /&gt; Bars und „Straßenkreuzer&quot; ein vertrauter Anblick. Ein Teil der Soldaten wohnte in den „Amisiedlungen&quot;, andere in den umliegenden Siedlungen. Viele pflegten regen Kontakt zur deutschen Bevölkerung. Klaus Mai schildert seine Jugenderlebnisse der Nachkriegszeit im Münchner Norden.&lt;/p&gt; 
DTSTART:20190130T190000
DTEND:20190130T203000
LOCATION:Kulturzentrum 2411, Blodigstr. 4
ORGANIZER:MVHS München Nord
END:VEVENT
END:VCALENDAR