BEGIN:VCALENDAR
VERSION:2.0
PRODID:-//Stadtgeschichte München//DE
CALSCALE:GREGORIAN
BEGIN:VEVENT
UID:16249@stadtgeschichte-muenchen.de
SUMMARY:Amerika-Tag Bogenhausen: Amerikas Ostküste 
DESCRIPTION:&lt;p&gt;Freitag, 12.10.2019&lt;/p&gt; &lt;ul&gt; &lt;li&gt;15.00 Uhr: New York, New York - Unterwegs in der Megacity. Reisevortrag mit Wolfgang Blümel, siehe H183075&lt;/li&gt; &lt;li&gt;17.30 Uhr: Craftbiere aus Amerika. Workshop mit Verkostung mit Oliver Joksch, siehe H385306&lt;/li&gt; &lt;li&gt;18.30 Uhr: Amis in Bogenhausen - Ausstellungsrundgang mit Dr. Willibald Karl&lt;/li&gt; &lt;li&gt;20.00 Uhr: Konzert Massel-Tov: Swingend von Brooklyn ins Shtetl, siehe H123115. Zum Konzert werden Snacks und Getränke aus den USA angeboten.&lt;/li&gt; &lt;/ul&gt; 
DTSTART:20181012T150000
DTEND:20181012T220000
LOCATION:Kunstforum Arabelllapark, Rosenkavalierplatz 16
ORGANIZER:MVHS München Ost
END:VEVENT
END:VCALENDAR