BEGIN:VCALENDAR
VERSION:2.0
PRODID:-//Stadtgeschichte München//DE
CALSCALE:GREGORIAN
BEGIN:VEVENT
UID:16254@stadtgeschichte-muenchen.de
SUMMARY:Erziehung zur Demokratie?
DESCRIPTION:&lt;p&gt;Nach dem Ende des Zweiten Weltkrieges sahen es die USA als eine ihrer zentralen Aufgaben im besetzten Nachkriegsdeutschland, den Prozess der Demokratisierung in Gang zu setzen. Die Demokratisierung Deutschlands beinhaltete aus amerikanischer Perspektive zwei Komponenten, eine institutioneile (demokratische Regierung, freie Wahlen etc.) und eine „geistige&quot;: Durch „Reeducation&quot; sollten die Deutschen von Nazismus und Militarismus befreit und zu demokratischen mündigen Bürgern „umerzogen&quot; werden. Mit Blick auf Bayern, München und auch Bogenhausen soll diese Politik der „Reeducation&quot; nachgezeichnet und erläutert werden.&lt;/p&gt; 
DTSTART:20181113T183000
DTEND:20181113T203000
LOCATION:MVHS Rosenkavalierplatz 16
ORGANIZER:MVHS München Ost
END:VEVENT
END:VCALENDAR