BEGIN:VCALENDAR
VERSION:2.0
PRODID:-//Stadtgeschichte München//DE
CALSCALE:GREGORIAN
BEGIN:VEVENT
UID:16298@stadtgeschichte-muenchen.de
SUMMARY:Von der Manufaktur zum Industriebetrieb
DESCRIPTION:&lt;p&gt;Das „artige Dörfchen Laim&quot;, wie es 1803 einmal genannt wurde, führte über Jahrhunderte mit rund 200 Einwohnern ein beschauliches Dasein. Es gab zwar schon früher einige mehr und auch weniger erfolgreiche Versuche, Gewerbe und Manufakturen wie zum Beispiel eine Steingutfabrik anzusiedeln, doch erst mit dem Bau der Eisenbahnstrecke nach Augsburg brach das Industriezeitalter endgültig über das Dorf Laim herein. In diesem bebilderten Vortrag erfahren Sie Fakten aus der Laimer Geschichte, die Ihnen nahebringen, dass Laim mehr ist als ein Innenstadtrandviertel.&lt;br /&gt; In Kooperation mit dem Historischen Verein Laim e.V.&lt;/p&gt; 
DTSTART:20190214T183000
DTEND:20190214T200000
LOCATION:MVHS, Fürstenrieder Str. 53
ORGANIZER:MVHS München West
END:VEVENT
END:VCALENDAR