BEGIN:VCALENDAR
VERSION:2.0
PRODID:-//Stadtgeschichte München//DE
CALSCALE:GREGORIAN
BEGIN:VEVENT
UID:16299@stadtgeschichte-muenchen.de
SUMMARY:Der Zeus von Laim 
DESCRIPTION:&lt;p&gt;Von seinen Studenten „Zeus von Laim&quot; genannt, lehrte Theodor Fischer von 1908 bis 1928 an der Technischen Hochschule München „Baukunst&quot;. Der geniale Architekt gestaltete das Gesicht Münchens vor den beiden Weltkriegen, wovon auch in Laim noch heute die verschiedensten Gebäude zeugen. Hinter dieser für das beginnende 20. Jahrhundert revolutionären Architektur stand die Idee der Reformbewegung. Dieser Vortrag führt Sie zu den architektonischen Spuren Theodor Fischers in Laim, vermittelt aber auch einen Einblick in das dahinterstehende Ideengerüst.&lt;br /&gt; In Kooperation mit dem Historischen Verein Laim e.V.&lt;/p&gt; 
DTSTART:20181128T183000
DTEND:20181128T200000
LOCATION:MVHS, Fürstenrieder Str. 53
ORGANIZER:MVHS München West
END:VEVENT
END:VCALENDAR