BEGIN:VCALENDAR
VERSION:2.0
PRODID:-//Stadtgeschichte München//DE
CALSCALE:GREGORIAN
BEGIN:VEVENT
UID:16308@stadtgeschichte-muenchen.de
SUMMARY:DIe amerikanische Militärpräsenz im Münchner Westen von 1945-1992
DESCRIPTION:&lt;p&gt;Nach Kriegsende wurde Bayern 1945 den US-Besatzungstruppen unterstellt. Die Folgejahre waren vom Kennenlernen zweier grundverschiedener Kulturen geprägt, denen trotz vieler Erschwernisse der Nachkriegszeit, Denazifizierung und Fraternisierungsverbot eine Annäherung gelang. Der Vortrag beschreibt die Wirkungsbereiche der US-Militärregierung, beleuchtet den amerikanischen Einfluss auf Gesellschaft und Kultur während der Militärpräsenz in München von 1945 bis 1992 und geht auf die kulturellen und stadtbildprägenden Überreste der US-Präsenz im Münchner Westen ein.&lt;/p&gt; 
DTSTART:20190109T180000
DTEND:20190109T193000
LOCATION:MVHS Bäckerstraße 14
ORGANIZER:MVHS München West
END:VEVENT
END:VCALENDAR