BEGIN:VCALENDAR
VERSION:2.0
PRODID:-//Stadtgeschichte München//DE
CALSCALE:GREGORIAN
BEGIN:VEVENT
UID:16332@stadtgeschichte-muenchen.de
SUMMARY:100 Jahre Frauenwahlrecht
DESCRIPTION:&lt;p&gt;Am 30. November 1918 trat in Deutschland das Reichswahlgesetz mit dem allgemeinen aktiven und passiven Wahlrecht für Frauen in Kraft. Anlässlich dieses historischen Datums wird auf der Münchner Frauenkonferenz das Thema der politischen Vertretung und Wirksamkeit von Frauen diskutiert.&lt;/p&gt; &lt;p&gt;Programm: Eröffnung und Begrüßung durch die 3. Bürgermeisterin Christine Strobl und die Gleichstellung sbeauftragte Nico le Lassal.&lt;/p&gt; &lt;p&gt;„Der Kampf um das Frauenwahlrecht aus historischer Sicht und seine Bedeutung für die Zukunft.&quot; Vortrag von Kerstin Wolff, Historikerin, Universität Kassel&lt;/p&gt; &lt;p&gt;Präsentation der Studie „Wählen und Gestalten - Motivationen und Einstellungen Münchner Frauen zu politischer Mitwirkung und Wahlen.&quot;&lt;/p&gt; &lt;p&gt;Fünf parallele Diskussionsforen zu frauenpolitischem Engagement heute, zu Aktionsformen und zur Wirksamkeit frauenpolitischer Themen in Politik und Öffentlichkeit.&lt;/p&gt; &lt;p&gt;Podiumsdiskussion mit Politikerinnen&amp;nbsp;und Aktivistinnen aus der Münchner Frauenbewegung.&lt;/p&gt; &lt;p&gt;&amp;nbsp;&lt;/p&gt; &lt;p&gt;Gleichstellungsstelle für Frauen der Landeshauptstadt München&lt;/p&gt; &lt;p&gt;Anmeldung und ausführliches Konferenzprogramm: muenchen .de/gst&lt;/p&gt; 
DTSTART:20181130T093000
DTEND:20181130T180000
LOCATION:Alter Rathaussaal
ORGANIZER:Landeshauptstadt München
END:VEVENT
END:VCALENDAR