BEGIN:VCALENDAR
VERSION:2.0
PRODID:-//Stadtgeschichte München//DE
CALSCALE:GREGORIAN
BEGIN:VEVENT
UID:16343@stadtgeschichte-muenchen.de
SUMMARY:Die Alm auf dem Dach am Ostbahnhof
DESCRIPTION:&lt;p&gt;Das Werksviertel ist derzeit eines der innovativsten Stadtentwickungsprojekte in München. Themen wie Umweltschutz, Energiebilanz und Ressourcenschonung sind für die Planung des Viertels essentiell. So verfügt das Gelände über ein Nahwärme- und -kältenetz und ein eigenes Blockheizkraftwerk. Das Grundwasser wird zur Gebäudekühlung genutzt. Ein innovatives Verkehrskonzept wird Energieverbrauch und Umweltbelastung reduzieren. Der neueste Clou ist die Almschule auf dem 2500 m2 großen begrünten Dach des WERK3. Inmitten der dort lebenden Schafe, Hühner und Bienen lernen Kinder und Jugendliche den artgerechten und ressourcenschonenden Umgang mit der Tier- und Pflanzenwelt.&lt;/p&gt; &lt;p&gt;Gebührenfrei im Rahmen des 12. Münchner Klimaherbstes&lt;/p&gt; 
DTSTART:20181026T150000
DTEND:20181026T170000
LOCATION: EckHaus, Foyer • Grafinger Str. 2
ORGANIZER:
END:VEVENT
END:VCALENDAR