BEGIN:VCALENDAR
VERSION:2.0
PRODID:-//Stadtgeschichte München//DE
CALSCALE:GREGORIAN
BEGIN:VEVENT
UID:16349@stadtgeschichte-muenchen.de
SUMMARY:Baiern ist fortan ein Freistaat“ – Ausstellung zu Kurt Eisner 
DESCRIPTION:&lt;p&gt;Vernissage und begleiteter Rundgang durch die Ausstellung&lt;br /&gt; Die Ausstellung ist bis 24.02.2019 immer zu den Veranstaltungsterminen zu sehen.&lt;br /&gt; &lt;br /&gt; Die Revolution 1918 wurde nicht von einer anonymen Masse getragen, sondern von Personen mit Namen, Gesichtern und Lebensgeschichten. Wer waren die bairischen Revolutionärinnen und Revolutionäre rund um Kurt Eisner? Dieser Frage widmet sich die Ausstellung.&lt;br /&gt; &lt;br /&gt; Mit dem Kurator&amp;nbsp;Wolfram Kastner, München, Aktionskünstler, Kurt-Eisner-Kulturstiftung, Plenum R&lt;/p&gt; 
DTSTART:20181115T190000
DTEND:20181115T000000
LOCATION:Sendlinger Kulturschmiede - Daiserstraße 22
ORGANIZER:Plenum R - Revolution und Rätedemokratie
END:VEVENT
END:VCALENDAR