BEGIN:VCALENDAR
VERSION:2.0
PRODID:-//Stadtgeschichte München//DE
CALSCALE:GREGORIAN
BEGIN:VEVENT
UID:16356@stadtgeschichte-muenchen.de
SUMMARY:Politisches Bewusstsein und Psychoanalyse seit 100 Jahren: Otto Gross
DESCRIPTION:&lt;p&gt;Der Psychiater und Psychoanalytiker Otto Gross aus Österreich war ein aktives Mitglied der sozialistisch-anarchistischen Bewegung und auch in literarische Kreise in der Wiener, Münchner, Berliner und Schweizer Bohème integriert. Von Sigmund Freud wurde er geschätzt, und Erich Mühsam gehörte zu seinem Freundeskreis. Aufgrund verschiedener Affären wurde er auf Betreiben seines Vaters, des berühmten Strafrechtlers Hans Gross, in psychiatrischen Anstalten interniert, entmündigt, steckbrieflich gesucht und als Anarchist verhaftet. 1920 verstarb er unter ungeklärten Umständen. In seinen zahlreichen Schriften wird die Auseinandersetzung zur Psycho-Politik für uns eine&amp;nbsp; Anregung sein.&lt;br /&gt; &lt;br /&gt; Fritz Letsch, München, Gestalttherapeut, Plenum R&lt;/p&gt; 
DTSTART:20181213T190000
DTEND:20181213T000000
LOCATION:Sendlinger Kulturschmiede - Daiserstraße 22
ORGANIZER:Plenum R - Revolution und Rätedemokratie
END:VEVENT
END:VCALENDAR