BEGIN:VCALENDAR
VERSION:2.0
PRODID:-//Stadtgeschichte München//DE
CALSCALE:GREGORIAN
BEGIN:VEVENT
UID:16359@stadtgeschichte-muenchen.de
SUMMARY:Alltag und Erinnerung
DESCRIPTION:&lt;p&gt;Das Ausstellungsprojekt „Alltag und Erinnerung“ des Archivs der Münchner Arbeiterbewegung versucht, bislang weniger beachtete Aspekte des Revolutionsgeschehens,&amp;nbsp; v. a. aus Sicht der „kleinen Leute“, auszuleuchten. Zugleich wird ein Blick auf die wechselvolle, bisweilen kuriose Bewertung und Vereinnahmung der Revolution gerichtet. Fragen, die die Ausstellung beantwortet, aber auch gestellt hat, stehen im Mittelpunkt des Vortrages.&lt;br /&gt; &lt;br /&gt; Bernward Anton, Archiv der Münchner Arbeiterbewegung, promovierte zur Spaltung der bayerischen SPD im Ersten Weltkrieg&lt;/p&gt; &lt;p&gt;&amp;nbsp;&lt;/p&gt; 
DTSTART:20190122T190000
DTEND:20190122T000000
LOCATION:Sendlinger Kulturschmiede - Daiserstraße 22
ORGANIZER:Plenum R - Revolution und Rätedemokratie
END:VEVENT
END:VCALENDAR