BEGIN:VCALENDAR
VERSION:2.0
PRODID:-//Stadtgeschichte München//DE
CALSCALE:GREGORIAN
BEGIN:VEVENT
UID:16361@stadtgeschichte-muenchen.de
SUMMARY:Dunst, Gerüchte, Stimmungsmache
DESCRIPTION:&lt;p&gt;Im Kampf um die Köpfe entscheidet der, der die kulturelle Hegemonie behauptet. Die Interessengruppen stehen fest. Die Durchsetzung ihrer Ziele hängt ab von den Methoden, mit denen sie operieren. Dabei müssen sie analysieren, ob sie Rückenwind oder Gegenwind haben und ob sie zur rechten Zeit am rechten Ort den rechten Ton finden. Freilich haben diejenigen es leichter, welche traditionell auf finanzielle Ressourcen bauen können und die schon früher als politische Eliten galten. Wenn sie dann noch mit subtilem Einfluss Stimmung machen, mit fake news arbeiten, wenn sie Gerüchte kolportieren, wenn sie niedrigste Instinkte ansprechen, dann gewinnen sie.&lt;br /&gt; &lt;br /&gt; Günther Gerstenberg, München, Archiv der Münchner Arbeiterbewegung, Plenum R, Herausgeber von „Steckbriefe gegen Eisner, Kurt und Genossen wegen Landesverrates. Ein Lesebuch über Münchner Revolutionärinnen und Revolutionäre im Januar 1918“, Edition AV, 2017 und Autor von „Der kurze Traum vom Frieden. Ein Beitrag zur Vorgeschichte des Umsturzes in München 1918“, Edition AV, 2018.&lt;/p&gt; &lt;p&gt;&amp;nbsp;&lt;/p&gt; 
DTSTART:20190129T190000
DTEND:20190129T000000
LOCATION:Sendlinger Kulturschmiede - Daiserstraße 22
ORGANIZER:Plenum R - Revolution und Rätedemokratie
END:VEVENT
END:VCALENDAR