BEGIN:VCALENDAR
VERSION:2.0
PRODID:-//Stadtgeschichte München//DE
CALSCALE:GREGORIAN
BEGIN:VEVENT
UID:16363@stadtgeschichte-muenchen.de
SUMMARY:„Revolutionärinnen von A bis Z“
DESCRIPTION:&lt;p&gt;„His-tory“ wird aus aktuellem Anlass ergänzt durch „Her-story“. Zwei mutige historische Frauen schauen zurück auf ihr Leben, ihr Engagement und ihre Kontroversen. Sie wissen aber auch genau, was heute passiert und appellieren an die junge Generation, sich politisch einzumischen, wenn der Frieden wieder in Gefahr ist, wenn Hass wieder Gewalt erzeugt und Frauen an den Rand gedrückt werden.&lt;br /&gt; &lt;br /&gt; Sabine Bollenbach, München, Schauspielerin, Politologin&lt;br /&gt; &lt;br /&gt; Heidi Meinzolt, München, Europakoordinatorin Internationale Frauenliga für Frieden und Freiheit, AG Räte-Frauen im Plenum R&lt;/p&gt; 
DTSTART:20190219T190000
DTEND:20190219T000000
LOCATION:Sendlinger Kulturschmiede - Daiserstraße 22
ORGANIZER:Plenum R - Revolution und Rätedemokratie
END:VEVENT
END:VCALENDAR