BEGIN:VCALENDAR
VERSION:2.0
PRODID:-//Stadtgeschichte München//DE
CALSCALE:GREGORIAN
BEGIN:VEVENT
UID:16365@stadtgeschichte-muenchen.de
SUMMARY:Revolution! Was kümmern uns Frauen die alten Zöpfe?
DESCRIPTION:&lt;p&gt;Von den Revolutionärinnen Gabriele Kätzler und ihren Töchtern sowie von Hilde Kramer sind uns aus der Revolutionszeit wunderbare, engagierte Briefe erhalten. Die Frauen waren keine Eisners, Tollers, Mühsams. Noch nicht einmal deren Geliebte, Verwandte oder Sekretärinnen ... Insofern hatten sie kaum eine Chance, in die (männliche) Geschichtsschreibung einzugehen. Überliefert sind die Briefe in Polizeiakten. Sie wurden von Sternsdorf-Hauck entdeckt, veröffentlicht und kommentiert.&lt;br /&gt; &lt;br /&gt; Christiane Sternsdorf-Hauck, München, Autorin von „Brotmarken und Rote Fahnen – Frauen in der bayrischen Revolution und Räterepublik 1918/19“, Neuer ISP-Verlag, 2008, AG Räte-Frauen im Plenum R, Plenum R&lt;br /&gt; &lt;br /&gt; Gesche Piening, München, Schauspielerin, Regisseurin, Feature-Autorin,&amp;nbsp;&lt;/p&gt; &lt;p&gt;&amp;nbsp;&lt;/p&gt; 
DTSTART:20190319T190000
DTEND:20190319T000000
LOCATION:Sendlinger Kulturschmiede - Daiserstraße 22
ORGANIZER:Plenum R - Revolution und Rätedemokratie
END:VEVENT
END:VCALENDAR