BEGIN:VCALENDAR
VERSION:2.0
PRODID:-//Stadtgeschichte München//DE
CALSCALE:GREGORIAN
BEGIN:VEVENT
UID:16373@stadtgeschichte-muenchen.de
SUMMARY:Erinnerungskultur in München rund um die Räterepublik und Revolution
DESCRIPTION:&lt;p&gt;Man könnte in Bayern und in seiner Landhauptstadt stolz darauf sein, dass hier zwei Tage vor Berlin die Adels- und Militärdiktatur beendet und die Demokratie als „Freistaat Baiern“ ausgerufen wurden. Man könnte den Revolutionär und 1. Ministerpräsidenten des Freistaats, Kurt Eisner, mit einem nach ihm benannten zentralen Platz und Denkmal ehren. Stattdessen wird verdruckst und verdrängt.&amp;nbsp;&lt;br /&gt; Wie Demokratie-Geschichte erinnert, interpretiert und öffentlich präsentiert wird, daran ist die reale Verfassung einer Gesellschaft ablesbar.&amp;nbsp;&lt;br /&gt; Die teilweise absurde Geschichte der Erinnerung an den Beginn der Demokratie und an ihre Protagonist*innen seit 1919 bis heute wird in dem Vortrag anschaulich dargestellt. Welche Konsequenzen ergeben sich daraus? Welche Forderungen sind zu stellen?&amp;nbsp;&lt;br /&gt; &lt;br /&gt; Wolfram Kastner, München, Aktionskünstler, Kurt-Eisner-Kulturstiftung, Plenum R&lt;/p&gt; 
DTSTART:20190521T190000
DTEND:20190521T000000
LOCATION:Sendlinger Kulturschmiede - Daiserstraße 22
ORGANIZER:Plenum R - Revolution und Rätedemokratie
END:VEVENT
END:VCALENDAR