BEGIN:VCALENDAR
VERSION:2.0
PRODID:-//Stadtgeschichte München//DE
CALSCALE:GREGORIAN
BEGIN:VEVENT
UID:16443@stadtgeschichte-muenchen.de
SUMMARY:Was nach 100 Jahren Revolutionen zu tun bleibt...
DESCRIPTION:&lt;p&gt;Offene Gespräche, Buchvorstellungen, Lesungen, Filmvorführungen, Vorträge und Diskussionen: Eine Reihe, die Grundinformationen über Geschichten, Literatur, Personen, Bewegungen und Folgen der Revolutionszeit ebenso beinhaltet wie aktuelle Ideen zur Organisationsfrage , zu sozialen Verhältnissen oder auch Wünschen. Die Schwerpunkte und Gestaltung werden in einem interaktiven Prozess durch die Teilnehmenden selbst gesteuert und ergeben sich daher erst 14 Tage im Voraus.&lt;/p&gt; &lt;p&gt;Fritz Letsch Theaterpädagoge und Gestalttherapeut&lt;br /&gt; Benjamin Gröschl Soziologe&lt;br /&gt; Benedikt Schumitz Schulpsychologe&lt;/p&gt; 
DTSTART:20181101T190000
DTEND:20181101T210000
LOCATION:5vor12, Dein Feldkcafe, Georgenschwaigstraße 26
ORGANIZER:VolxKüche München e.V.
END:VEVENT
END:VCALENDAR