BEGIN:VCALENDAR
VERSION:2.0
PRODID:-//Stadtgeschichte München//DE
CALSCALE:GREGORIAN
BEGIN:VEVENT
UID:16444@stadtgeschichte-muenchen.de
SUMMARY:Auf Messers Schneide
DESCRIPTION:&lt;p&gt;Stand der Ausgang des Ersten Weltkriegs auf Messers Schneide? 100 Jahre nach der deutschen Niederlage zeichnet Holger „ Afflerbach die militärischen Entwick lungen nach, analysiert die politisch-strategischen Entscheidunge n und zeigt, dass der Krieg auch anders hätte ausgehen können . Die deutsche Politik war nicht so eindeut ig auf umfassende Eroberungen festgelegt, wi e es dem allgeme inen Urteil entspricht, und die deutschen Friedensvorstöße hätten die Möglic hkeit geboten , den Krieg zu beenden, bevor er Europa in den Abgrund riss.&lt;/p&gt; &lt;p&gt;Holger Afflerbach Europäische Geschichte, Universität Leeds ist Autor zahlreicher Studien zum Ersten Weltkrieg&lt;/p&gt; &lt;p&gt;Historisches Kolleg,&lt;br /&gt; Evangelische Stadtakademie München,&lt;br /&gt; Verlag C.H.Beck&lt;/p&gt; &lt;p&gt;Anmeldung erwünscht:&lt;br /&gt; sekretariat@historischeskol leg.de&lt;br /&gt; www .historischeskolleg.de&lt;/p&gt; 
DTSTART:20181105T190000
DTEND:20181105T000000
LOCATION:Historisches Kolleg, Kaulbachstraße 15
ORGANIZER:Historisches Kolleg
END:VEVENT
END:VCALENDAR