BEGIN:VCALENDAR
VERSION:2.0
PRODID:-//Stadtgeschichte München//DE
CALSCALE:GREGORIAN
BEGIN:VEVENT
UID:16450@stadtgeschichte-muenchen.de
SUMMARY:Erschütterungen 1918 und 2018
DESCRIPTION:&lt;p&gt;„Erschütterungen 1918: Die Revolution öffnet den Weg zur Demokratie. Ende der Zensur!&quot;&lt;br /&gt; 2018: Erschütterungen - Literatur und Globalisierung - Literatur unter dem Diktat der Marktideologie.&lt;/p&gt; &lt;p&gt;Norbert Niemann Schriftsteller&lt;br /&gt; Arwed Vogel Schriftsteller&lt;/p&gt; 
DTSTART:20181115T190000
DTEND:20181115T210000
LOCATION:Rathausgalerie I Kunsthalle
ORGANIZER:ver.di Kulturforum Bayern in München
END:VEVENT
END:VCALENDAR