BEGIN:VCALENDAR
VERSION:2.0
PRODID:-//Stadtgeschichte München//DE
CALSCALE:GREGORIAN
BEGIN:VEVENT
UID:16451@stadtgeschichte-muenchen.de
SUMMARY:Meine Familie nach dem Ersten Weltkrieg
DESCRIPTION:&lt;p&gt;Wie sind Familien mit ihren Erfahrungen aus dem Ersten Welt krieg in der Demokratie angekommen? Der Abend präsentiert Nachforschungen zu Krieg und Übergangszeit in der eigenen Familie und Ausschnitte aus dem Film „Meeting in No Man\'s Land - Begegnungen im Niemandsland&quot;. Der Film zeigt eine britisch-deutsche Begegnung aus dem Jahr 2016, bei der die Spuren des Weltkriegs in den Familien reflektiert wurden. Es offenbaren sich kulturelle Unterschiede, aber auch Gemeinsamkeiten.&lt;/p&gt; &lt;p&gt;Karin Wimmer-Billeter Sozialpädagogin&lt;br /&gt; Melanie Sommer Pädagogin&lt;/p&gt; &lt;p&gt;Evangelisches Bildungswerk München, Münchner Bildungswerk und LebensMutig - Gesellschaft für Biografiearbeit e.V.&lt;/p&gt; 
DTSTART:20181115T190000
DTEND:20181115T000000
LOCATION:Evangelisches Forum
ORGANIZER:Evangelisches Bildungswerk e.V.
END:VEVENT
END:VCALENDAR