BEGIN:VCALENDAR
VERSION:2.0
PRODID:-//Stadtgeschichte München//DE
CALSCALE:GREGORIAN
BEGIN:VEVENT
UID:16452@stadtgeschichte-muenchen.de
SUMMARY:Kurt Eisner als Revolutionär und Pazifist
DESCRIPTION:&lt;p&gt;Kurt Eisner schuf eine radikaldemokratische Regierung - basierend auf Arbeiter-, Bauern- und Soldatenräten, während der König heimlich, still und leise München verlassen hat.&lt;/p&gt; &lt;p&gt;Riccardo Altrieri Historiker, Potsdam&lt;/p&gt; &lt;p&gt;Kurt Eisner Verein in Kooperation mit dem ver.di Kulturforum und Unterstützung des Kulturreferats der Landeshauptstadt Mün chen&lt;/p&gt; 
DTSTART:20181121T190000
DTEND:20181121T000000
LOCATION:Rathausgalerie I Kunsthalle
ORGANIZER:MVHS
END:VEVENT
END:VCALENDAR