BEGIN:VCALENDAR
VERSION:2.0
PRODID:-//Stadtgeschichte München//DE
CALSCALE:GREGORIAN
BEGIN:VEVENT
UID:16468@stadtgeschichte-muenchen.de
SUMMARY:Die Münchner Polizei und die Räterepublik
DESCRIPTION:&lt;p&gt;In den turbulenten Wochen der Räterepublik lösten mehrere Polizeipräsidenten einander ab, die „ Löwengrube&quot; versank im Chaos. Joachim Schröder schildert in seinem Vortrag die Ereignisse im April/Mai 1919 und die nachhaltigen Folgen der Räterepublik für die weitere Entwicklung der Münchner Polizei.&lt;/p&gt; &lt;p&gt;Joachim Schröder Historiker, Leiter des Erinnerungsortes Alter Schlachthof, Hochschule Düsseldorf und Autor des Buches „ Die Münchner Polizei und der Nationalsozialismus&quot;&lt;/p&gt; 
DTSTART:20190117T190000
DTEND:20190117T000000
LOCATION:NS-Dokumentationszentrum München
ORGANIZER:NS-Dokumentationszentrum München
END:VEVENT
END:VCALENDAR