BEGIN:VCALENDAR
VERSION:2.0
PRODID:-//Stadtgeschichte München//DE
CALSCALE:GREGORIAN
BEGIN:VEVENT
UID:16485@stadtgeschichte-muenchen.de
SUMMARY:Nachkriegsgrenzen, Nachkriegsidentitäten
DESCRIPTION:&lt;p&gt;Mit dem Zusammenbruch der großen Imperien nach dem Ersten Weltkrieg und damit einhergehender Grenzveränderungen beginnt in Europa ein neues Zeitalter. Es ist geprägt durch Völkerverschiebungen, Rückkehrbewegungen, Identitätskonflikte und dem Kampf um Minderheitenrechte . Zum Teil ist es bis heute nicht abgeschlossen. In diesem Kontext diskutieren Historiker die Geschichte von Elsass-Lothringen , Südtirol und der Oberen Adria: Marco Bresciani beschäftigt sich mit den Grenzen Norditaliens nach dem Ersten Weltkrieg sowie dem italienischen Antifaschismus. Michael Schwartz forscht zu ethnischen „Säuberungen&quot; in der Moderne. Der Fokus der Arbeit von Thomas Serrier liegt auf Grenzregionen und transreg ionalen&lt;br /&gt; Errinnerungskulturen in Europa.&lt;/p&gt; &lt;p&gt;Marco Bresciani Universita di Verona&lt;/p&gt; &lt;p&gt;Michael Schwartz Institut für Zeitgeschichte München-Berlin&lt;/p&gt; &lt;p&gt;Thomas Serrier Europa Universität Viadrina Frankfurt-Oder&lt;/p&gt; &lt;p&gt;Moderation: Thomas Schlemmer Institut für Zeitgeschichte München-Berlin , Ludwig-Maximilians-Universität&lt;/p&gt; 
DTSTART:20190214T183000
DTEND:20190214T000000
LOCATION:lstituto ltaliano di Cultura
ORGANIZER:Kulturreferat der Landeshauptstadt München
END:VEVENT
END:VCALENDAR