BEGIN:VCALENDAR
VERSION:2.0
PRODID:-//Stadtgeschichte München//DE
CALSCALE:GREGORIAN
BEGIN:VEVENT
UID:16493@stadtgeschichte-muenchen.de
SUMMARY:Der Beitrag der bürgerlichen und katholischen Frauenbewegung zur ersten Demokratie in Baye
DESCRIPTION:&lt;p&gt;Bürgerliche Frauen wie Ellen Ammann (1870 -1932) und Luise Kiesselbach (1863-1929) engagierten sich nicht nur für Wohlfahrt sondern auch für Demokratie , Bildung und Frauenrechte. Ammann war u.a. seit 1904 Vorsitzende des Katholischen Frauenbundes in München. Kiesselbach gründeten 1914 den Stadtbund Münchner Frauenverbände. lngeburg Mi lenovic zeigt das Engagement dieser Frauen bis in die Weimarer Republik.&lt;/p&gt; 
DTSTART:20190318T190000
DTEND:20190318T000000
LOCATION:n.a.
ORGANIZER:
END:VEVENT
END:VCALENDAR