BEGIN:VCALENDAR
VERSION:2.0
PRODID:-//Stadtgeschichte München//DE
CALSCALE:GREGORIAN
BEGIN:VEVENT
UID:16498@stadtgeschichte-muenchen.de
SUMMARY:Verklärung oder Verdrängung? 
DESCRIPTION:&lt;p&gt;Begeisterungsstürme hat das 1 00jährige Jubiläum der Demokratie in Bayern und Deutschland nicht ausgelöst Die Bundes- und Landespolitik tut sich nicht leicht mit deren revolutionären Anfängen im Jahr 1918, und auch viele Bürger wissen wenig damit anzufangen. Für andere wiederum geht von den Akteuren der Revolution eine große Faszination aus, wobei indes nicht selten ein verklärender Blick die kritisch-historische Perspektive ersetzt. Wie kann ein angemessener Umgang mit diesem ebenso bedeutsamen wie sperrigen Kapitel bayerischer und deutscher Geschichte aussehen?&lt;br /&gt; Ferdinand Kramer Bayerische Geschichte und Vergleichende Landesgeschichte, Ludwig-Maximilians-Universität&lt;br /&gt; Wolfgang Niess Historiker und Autor&lt;br /&gt; Moderation : Jürgen Zarusky Institut für Zeitgeschichte München-Berlin&lt;/p&gt; 
DTSTART:20190411T190000
DTEND:20190411T000000
LOCATION:Monacensia im Hildebrandhaus, Forum Atelier
ORGANIZER:Monacensia
END:VEVENT
END:VCALENDAR