BEGIN:VCALENDAR
VERSION:2.0
PRODID:-//Stadtgeschichte München//DE
CALSCALE:GREGORIAN
BEGIN:VEVENT
UID:165@stadtgeschichte-muenchen.de
SUMMARY:Münchner G\'schichten
DESCRIPTION:Für Kinder ab sechs Jahren mit ihren (Groß-)Eltern Bei einem vergnüglichen Spaziergang durch das alte München lernen wir Geschichten und Sagen kennen, die sich um Münchens berühmte Gebäude und Plätze ranken. Durch die über 850 Jahre lange Münchner Stadtgeschichte führen lustige, schaurige und interessante Begebenheiten.
DTSTART:20110519T153000
DTEND:20110519T173000
LOCATION:Mariensäule, Marienplatz
ORGANIZER:MVHS München Mitte   
END:VEVENT
END:VCALENDAR